BEGIN:VCALENDAR
PRODID;X-RICAL-TZSOURCE=TZINFO:-&#47;&#47;com.denhaven2&#47;NONSGML ri_cal gem&#47;&#47;EN
CALSCALE:GREGORIAN
VERSION:2.0
BEGIN:VEVENT
DTEND;VALUE=DATE:20110101
DTSTART;VALUE=DATE:20110101
DESCRIPTION:0.5 is due on 01&#47;01&#47;11 (21 tickets)
SUMMARY:Milestone for openmicroblogger: 0.5
LOCATION:https:&#47;&#47;voitto.lighthouseapp.com&#47;projects&#47;16076&#47;milestones&#47;28620
 -04
END:VEVENT
BEGIN:VEVENT
DTEND;VALUE=DATE:20110401
DTSTART;VALUE=DATE:20110401
DESCRIPTION:0.6 is due on 04&#47;01&#47;11 (87 tickets)
SUMMARY:Milestone for openmicroblogger: 0.6
LOCATION:https:&#47;&#47;voitto.lighthouseapp.com&#47;projects&#47;16076&#47;milestones&#47;22198
 -03
END:VEVENT
BEGIN:VEVENT
DTEND;VALUE=DATE:20111201
DTSTART;VALUE=DATE:20111201
DESCRIPTION:0.7 is due on 12&#47;01&#47;11 (4 tickets)
SUMMARY:Milestone for openmicroblogger: 0.7
LOCATION:https:&#47;&#47;voitto.lighthouseapp.com&#47;projects&#47;16076&#47;milestones&#47;28621
 -05
END:VEVENT
END:VCALENDAR
